BEGIN:VCALENDAR
VERSION:2.0
PRODID:http://www.katholisch-am-haardtkopf.de
BEGIN:VEVENT
UID:022d6d74-33fd-11f1-a3e9-0242ac11002b-1777188600000-de
DTSTAMP:20260409T101518Z
DTSTART:20260426T073000Z
DTEND:20260426T083000Z
SUMMARY;LANGUAGE=de:Eucharistiefeier Morbach - Merscheid, zu Ehren des Hl. Georg
END:VEVENT
END:VCALENDAR
