BEGIN:VCALENDAR
VERSION:2.0
PRODID:http://www.katholisch-am-haardtkopf.de
BEGIN:VEVENT
UID:76556492-3ee0-11f1-a3e9-0242ac11002b-1777833000000-de
DTSTAMP:20260423T064840Z
DTSTART:20260503T183000Z
DTEND:20260503T193000Z
SUMMARY;LANGUAGE=de:Gottesdienst zur Mondscheinzeit, Schlager mit Doc Chris
END:VEVENT
END:VCALENDAR
