BEGIN:VCALENDAR
VERSION:2.0
PRODID:http://www.katholisch-am-haardtkopf.de
BEGIN:VEVENT
UID:a90bd297-3e3c-11f1-a3e9-0242ac11002b-1777793400000-de
DTSTAMP:20260422T111608Z
DTSTART:20260503T073000Z
DTEND:20260503T083000Z
SUMMARY;LANGUAGE=de:Eucharistiefeier Morbach - Gonzerath, Erstkommunionfeier
END:VEVENT
END:VCALENDAR
