BEGIN:VCALENDAR
VERSION:2.0
PRODID:http://www.katholisch-am-haardtkopf.de
BEGIN:VEVENT
UID:d862b5f1-3ee0-11f1-a3e9-0242ac11002b-1778257800000-de
DTSTAMP:20260423T065124Z
DTSTART:20260508T163000Z
DTEND:20260508T173000Z
SUMMARY;LANGUAGE=de:Eucharistiefeier mit Marienlob, Morbach - Heinzerath
END:VEVENT
END:VCALENDAR
