BEGIN:VCALENDAR
VERSION:2.0
PRODID:http://www.katholisch-am-haardtkopf.de
BEGIN:VEVENT
UID:e5bc0362-3e3c-11f1-a3e9-0242ac11002b-1777798800000-de
DTSTAMP:20260422T111749Z
DTSTART:20260503T090000Z
DTEND:20260503T100000Z
SUMMARY;LANGUAGE=de:Eucharistiefeier Mobach - Merscheid, Erstkommunionfeier
END:VEVENT
END:VCALENDAR
